BEGIN:VCALENDAR
VERSION:2.0
PRODID:icalendar-ruby
CALSCALE:GREGORIAN
METHOD:PUBLISH
BEGIN:VEVENT
DTSTAMP:20260419T130320Z
UID:event-1027-2022-04-01T12:00:00+02:00-none
DTSTART;TZID=Europe/Madrid:20220401T120000
DESCRIPTION:Pedro Blanco Álvarez acompañará a las personas interesadas e
 n conocer los hechos e historias relacionadas con el desastre del “Cabo 
 Machichaco”\, especialmente lo acontecido con su segunda explosión.
SUMMARY:Visitas guiadas a la exposición "Explosión en el Cabo Machichaco"
END:VEVENT
BEGIN:VEVENT
DTSTAMP:20260419T130320Z
UID:event-1027-2022-04-08T12:00:00+02:00-none
DTSTART;TZID=Europe/Madrid:20220408T120000
DESCRIPTION:Pedro Blanco Álvarez acompañará a las personas interesadas e
 n conocer los hechos e historias relacionadas con el desastre del “Cabo 
 Machichaco”\, especialmente lo acontecido con su segunda explosión.
SUMMARY:Visitas guiadas a la exposición "Explosión en el Cabo Machichaco"
END:VEVENT
END:VCALENDAR
