BEGIN:VCALENDAR
VERSION:2.0
PRODID:icalendar-ruby
CALSCALE:GREGORIAN
METHOD:PUBLISH
BEGIN:VEVENT
DTSTAMP:20260419T125555Z
UID:event-10664-2024-05-09T19:30:00+02:00-none
DTSTART;TZID=Europe/Madrid:20240509T193000
DESCRIPTION:Se trata de una iniciativa cultural organizada por la Consejer
 ía de Economía\, Hacienda y Fondos Europeos en la que participarán más
  de 500 artistas de la región entre grupos de danzas\, coralistas y músi
 cos.
SUMMARY:I Festival de Folklore Europa y Cantabria. Tradiciones Encontradas
END:VEVENT
END:VCALENDAR
