BEGIN:VCALENDAR
VERSION:2.0
PRODID:icalendar-ruby
CALSCALE:GREGORIAN
METHOD:PUBLISH
BEGIN:VEVENT
DTSTAMP:20260419T124738Z
UID:event-1099-2022-04-21T20:30:00+02:00-none
DTSTART;TZID=Europe/Madrid:20220421T203000
DESCRIPTION:Explora la relación entre el individuo y la sociedad\, mostran
 do lo que sucede cuando una profesora de secundaria (Katia Pascariu) publi
 ca un vídeo personal de pornografía amateur en una web.
SUMMARY:"Un polvo desafortunado o porno loco"\, de Radu Jude (V.O.S.)
END:VEVENT
BEGIN:VEVENT
DTSTAMP:20260419T124738Z
UID:event-1099-2022-04-22T17:30:00+02:00-none
DTSTART;TZID=Europe/Madrid:20220422T173000
DESCRIPTION:Explora la relación entre el individuo y la sociedad\, mostran
 do lo que sucede cuando una profesora de secundaria (Katia Pascariu) publi
 ca un vídeo personal de pornografía amateur en una web.
SUMMARY:"Un polvo desafortunado o porno loco"\, de Radu Jude (V.O.S.)
END:VEVENT
BEGIN:VEVENT
DTSTAMP:20260419T124738Z
UID:event-1099-2022-04-23T19:00:00+02:00-none
DTSTART;TZID=Europe/Madrid:20220423T190000
DESCRIPTION:Explora la relación entre el individuo y la sociedad\, mostran
 do lo que sucede cuando una profesora de secundaria (Katia Pascariu) publi
 ca un vídeo personal de pornografía amateur en una web.
SUMMARY:"Un polvo desafortunado o porno loco"\, de Radu Jude (V.O.S.)
END:VEVENT
BEGIN:VEVENT
DTSTAMP:20260419T124738Z
UID:event-1099-2022-04-23T21:00:00+02:00-none
DTSTART;TZID=Europe/Madrid:20220423T210000
DESCRIPTION:Explora la relación entre el individuo y la sociedad\, mostran
 do lo que sucede cuando una profesora de secundaria (Katia Pascariu) publi
 ca un vídeo personal de pornografía amateur en una web.
SUMMARY:"Un polvo desafortunado o porno loco"\, de Radu Jude (V.O.S.)
END:VEVENT
END:VCALENDAR
