BEGIN:VCALENDAR
VERSION:2.0
PRODID:icalendar-ruby
CALSCALE:GREGORIAN
METHOD:PUBLISH
BEGIN:VEVENT
DTSTAMP:20260425T163351Z
UID:event-11098-2024-05-14T19:00:00+02:00-none
DTSTART;TZID=Europe/Madrid:20240514T190000
DESCRIPTION:Este libro contiene un completo y riguroso análisis e informac
 ión de lo acontecido en los 45 años desde la Constitución. Y pretende f
 omentar una mayor conciencia y reflexión sobre la mejora del sistema inst
 itucional.
SUMMARY:Jesús López-Medel presenta el libro "Calidad democrática"
END:VEVENT
END:VCALENDAR
