BEGIN:VCALENDAR
VERSION:2.0
PRODID:icalendar-ruby
CALSCALE:GREGORIAN
METHOD:PUBLISH
BEGIN:VEVENT
DTSTAMP:20260419T125337Z
UID:event-11287-2024-08-15T20:00:00+02:00-none
DTSTART;TZID=Europe/Madrid:20240815T200000
DESCRIPTION:Nacido en Barcelona en 2014\, el Cosmos Quartet se ha consolida
 do como uno de los cuartetos de cuerda más atractivos del panorama musica
 l actual. 
SUMMARY:Cosmos Quartet. Noelia Rodiles\, piano. Mariona Mateu\, contrabajo
END:VEVENT
END:VCALENDAR
