BEGIN:VCALENDAR
VERSION:2.0
PRODID:icalendar-ruby
CALSCALE:GREGORIAN
METHOD:PUBLISH
BEGIN:VEVENT
DTSTAMP:20260425T164443Z
UID:event-11339-2024-06-06T18:00:00+02:00-none
DTSTART;TZID=Europe/Madrid:20240606T180000
DESCRIPTION:La proyección del documental del Instituto Español de Oceanog
 rafía titulado "El Futuro del Océano"\, vendrá acompañada de una mesa 
 redonda titulada “El Futuro del Océano\, nuestro porvenir. Cultura Oce
 ánica-Santander Azul".
SUMMARY:Proyección del documental y mesa redonda: “El futuro del océano
 \, nuestro porvenir: Cultura oceánica-Santander Azul”
END:VEVENT
END:VCALENDAR
