BEGIN:VCALENDAR
VERSION:2.0
PRODID:icalendar-ruby
CALSCALE:GREGORIAN
METHOD:PUBLISH
BEGIN:VEVENT
DTSTAMP:20260422T171049Z
UID:event-11825-2024-06-29T12:00:00+02:00-2024-06-29T15:00:00+02:00
DTSTART;TZID=Europe/Madrid:20240629T120000
DTEND;TZID=Europe/Madrid:20240629T150000
DESCRIPTION:Pinchada en Discos Cucos este sábado 29 de junio\, en sesión 
 vermú\, de 12:00 a 15:00h.\, de la mano de Rico Roces y Paco Arráez.
SUMMARY:Pinchada "Rikuras y Vriladas"
END:VEVENT
END:VCALENDAR
