BEGIN:VCALENDAR
VERSION:2.0
PRODID:icalendar-ruby
CALSCALE:GREGORIAN
METHOD:PUBLISH
BEGIN:VEVENT
DTSTAMP:20260419T144628Z
UID:event-13328-2024-10-15T19:30:00+02:00-none
DTSTART;TZID=Europe/Madrid:20241015T193000
DESCRIPTION:Este es un libro autobiográfico que contiene las experiencias 
 y sentimientos de un científico durante 48 años\, fundamentalmente dirig
 ido a los amantes del mar y a la pesca de los túnidos\, pero sin omitir a
  los jóvenes investigadores.
SUMMARY:Presentación del libro "Memoria de un biólogo- oceanógrafo del I
 EO"\, de José Luis Cort
END:VEVENT
END:VCALENDAR
