BEGIN:VCALENDAR
VERSION:2.0
PRODID:icalendar-ruby
CALSCALE:GREGORIAN
METHOD:PUBLISH
BEGIN:VEVENT
DTSTAMP:20260419T131420Z
UID:event-13565-2024-11-06T18:30:00+01:00-none
DTSTART;TZID=Europe/Madrid:20241106T183000
DESCRIPTION:Esta es la historia de Juana y Onofre. Los dos viven en Cantogr
 ulla. Juana trabaja limpiando el palacio de Onofre y él se inventa mil y 
 una excusas para no pagarla. Juana encontrará ayuda en el lugar más ines
 perado
SUMMARY:Presentación del cuento "Casquito de Bellota". con su autor
END:VEVENT
END:VCALENDAR
