BEGIN:VCALENDAR
VERSION:2.0
PRODID:icalendar-ruby
CALSCALE:GREGORIAN
METHOD:PUBLISH
BEGIN:VEVENT
DTSTAMP:20260425T003742Z
UID:event-1368-2022-05-05T19:30:00+02:00-none
DTSTART;TZID=Europe/Madrid:20220505T193000
DESCRIPTION:Bajo el título genérico de La vida pequeña\, J. Á. Gonzále
 z Sainz emprende una suerte de dietario\, de cuaderno de bitácora\, compu
 esto por breves textos íntimos en busca de un nuevo modo de mirar y vivir
 . 
SUMMARY:Presentación del libro "La vida pequeña. El arte de la fuga"
END:VEVENT
END:VCALENDAR
