BEGIN:VCALENDAR
VERSION:2.0
PRODID:icalendar-ruby
CALSCALE:GREGORIAN
METHOD:PUBLISH
BEGIN:VEVENT
DTSTAMP:20260423T101507Z
UID:event-14104-2024-11-30T18:00:00+01:00-none
DTSTART;TZID=Europe/Madrid:20241130T180000
DESCRIPTION:Una performance dialógica y de intercambio de experiencias\, c
 onocimientos\, visiones y deseos oceánicos a partir de partituras poétic
 as\, conversaciones y encuentros fortuitos.
SUMMARY:Performance colectiva “Archivo vivo de afectos oceánicos”
END:VEVENT
END:VCALENDAR
