BEGIN:VCALENDAR
VERSION:2.0
PRODID:icalendar-ruby
CALSCALE:GREGORIAN
METHOD:PUBLISH
BEGIN:VEVENT
DTSTAMP:20260424T165309Z
UID:event-1503-2022-05-18T17:00:00+02:00-none
DTSTART;TZID=Europe/Madrid:20220518T170000
DESCRIPTION:Miguel Ángel vive momentos de angustia y éxtasis de su genio 
 creativo\, mientras dos familias nobles rivales se disputan su lealtad\, l
 a cual se pone a prueba cuando el Papa León X\, de la familia Medici\, ac
 cede al papado.
SUMMARY:"Miguel Ángel (El pecado)"\, de Andrei Konchalovsky
END:VEVENT
BEGIN:VEVENT
DTSTAMP:20260424T165309Z
UID:event-1503-2022-05-18T22:00:00+02:00-none
DTSTART;TZID=Europe/Madrid:20220518T220000
DESCRIPTION:Miguel Ángel vive momentos de angustia y éxtasis de su genio 
 creativo\, mientras dos familias nobles rivales se disputan su lealtad\, l
 a cual se pone a prueba cuando el Papa León X\, de la familia Medici\, ac
 cede al papado.
SUMMARY:"Miguel Ángel (El pecado)"\, de Andrei Konchalovsky
END:VEVENT
BEGIN:VEVENT
DTSTAMP:20260424T165309Z
UID:event-1503-2022-05-19-2022-05-19
DTSTART;VALUE=DATE:20220519
DTEND;VALUE=DATE:20220519
DESCRIPTION:Miguel Ángel vive momentos de angustia y éxtasis de su genio 
 creativo\, mientras dos familias nobles rivales se disputan su lealtad\, l
 a cual se pone a prueba cuando el Papa León X\, de la familia Medici\, ac
 cede al papado.
SUMMARY:"Miguel Ángel (El pecado)"\, de Andrei Konchalovsky
END:VEVENT
BEGIN:VEVENT
DTSTAMP:20260424T165309Z
UID:event-1503-2022-05-20T17:00:00+02:00-none
DTSTART;TZID=Europe/Madrid:20220520T170000
DESCRIPTION:Miguel Ángel vive momentos de angustia y éxtasis de su genio 
 creativo\, mientras dos familias nobles rivales se disputan su lealtad\, l
 a cual se pone a prueba cuando el Papa León X\, de la familia Medici\, ac
 cede al papado.
SUMMARY:"Miguel Ángel (El pecado)"\, de Andrei Konchalovsky
END:VEVENT
BEGIN:VEVENT
DTSTAMP:20260424T165309Z
UID:event-1503-2022-05-20T22:00:00+02:00-none
DTSTART;TZID=Europe/Madrid:20220520T220000
DESCRIPTION:Miguel Ángel vive momentos de angustia y éxtasis de su genio 
 creativo\, mientras dos familias nobles rivales se disputan su lealtad\, l
 a cual se pone a prueba cuando el Papa León X\, de la familia Medici\, ac
 cede al papado.
SUMMARY:"Miguel Ángel (El pecado)"\, de Andrei Konchalovsky
END:VEVENT
BEGIN:VEVENT
DTSTAMP:20260424T165309Z
UID:event-1503-2022-05-21T19:30:00+02:00-none
DTSTART;TZID=Europe/Madrid:20220521T193000
DESCRIPTION:Miguel Ángel vive momentos de angustia y éxtasis de su genio 
 creativo\, mientras dos familias nobles rivales se disputan su lealtad\, l
 a cual se pone a prueba cuando el Papa León X\, de la familia Medici\, ac
 cede al papado.
SUMMARY:"Miguel Ángel (El pecado)"\, de Andrei Konchalovsky
END:VEVENT
BEGIN:VEVENT
DTSTAMP:20260424T165309Z
UID:event-1503-2022-05-22T17:00:00+02:00-none
DTSTART;TZID=Europe/Madrid:20220522T170000
DESCRIPTION:Miguel Ángel vive momentos de angustia y éxtasis de su genio 
 creativo\, mientras dos familias nobles rivales se disputan su lealtad\, l
 a cual se pone a prueba cuando el Papa León X\, de la familia Medici\, ac
 cede al papado.
SUMMARY:"Miguel Ángel (El pecado)"\, de Andrei Konchalovsky
END:VEVENT
END:VCALENDAR
