BEGIN:VCALENDAR
VERSION:2.0
PRODID:icalendar-ruby
CALSCALE:GREGORIAN
METHOD:PUBLISH
BEGIN:VEVENT
DTSTAMP:20260423T083344Z
UID:event-15132-2025-02-20T19:00:00+01:00-none
DTSTART;TZID=Europe/Madrid:20250220T190000
DESCRIPTION:Se trata de una novela gráfica que narra la historia de Valent
 ina\, una niña sorda nacida en el año 2000\, cuya vida sirve como eje ce
 ntral para explorar las dificultades y desafíos que enfrentan las persona
 s sordas en la sociedad.
SUMMARY:Presentación del libro "La vida de Valentina. Comunicarse con sign
 os"
END:VEVENT
END:VCALENDAR
