BEGIN:VCALENDAR
VERSION:2.0
PRODID:icalendar-ruby
CALSCALE:GREGORIAN
METHOD:PUBLISH
BEGIN:VEVENT
DTSTAMP:20260419T125800Z
UID:event-15566-2025-03-17T19:30:00+01:00-2025-03-17T20:45:00+01:00
DTSTART;TZID=Europe/Madrid:20250317T193000
DTEND;TZID=Europe/Madrid:20250317T204500
DESCRIPTION:Coincidiendo con el día de remembranza del Dr. Manuel Arroyo G
 onzalez\, químico\, bromatólgo el 17 de marzo de 2010\, Pedro Arce impar
 tirá una conferencia sobre su vida\, su trabajo y las aportaciones que re
 alizó al mundo del queso.
SUMMARY:"Manuel Arroyo y el queso de Cantabria"\, conferencia de Pedro Arce
END:VEVENT
END:VCALENDAR
