BEGIN:VCALENDAR
VERSION:2.0
PRODID:icalendar-ruby
CALSCALE:GREGORIAN
METHOD:PUBLISH
BEGIN:VEVENT
DTSTAMP:20260419T130151Z
UID:event-15779-2025-03-27T18:30:00+01:00-none
DTSTART;TZID=Europe/Madrid:20250327T183000
DESCRIPTION:Una exposición en la que Montserrat Soto\, II Premio Trayector
 ia Fundación ENAIRE\, ha creado un atlas personal y visual\, hecho de fot
 ografías\, vídeos\, esculturas\, banderas\, libros... que comprende un p
 eriodo entre 2004 y 2019.
SUMMARY:Inauguración: Montserrat Soto. "Doom City. Del ser nómada al ser 
 sin lugar"
END:VEVENT
END:VCALENDAR
