BEGIN:VCALENDAR
VERSION:2.0
PRODID:icalendar-ruby
CALSCALE:GREGORIAN
METHOD:PUBLISH
BEGIN:VEVENT
DTSTAMP:20260425T164024Z
UID:event-17880-2025-08-28T17:30:00+02:00-none
DTSTART;TZID=Europe/Madrid:20250828T173000
DESCRIPTION:Esta es la historia de un niño cuyos sueños y traumas lo llev
 aron a ser uno de los máximos exponentes del teatro y las artes visuales 
 de la actualidad. 
SUMMARY:16 Picknic Film Festival: "El niño que sueña"\, de Andrés Varela
END:VEVENT
END:VCALENDAR
