BEGIN:VCALENDAR
VERSION:2.0
PRODID:icalendar-ruby
CALSCALE:GREGORIAN
METHOD:PUBLISH
BEGIN:VEVENT
DTSTAMP:20260422T173105Z
UID:event-175-2022-06-03T19:30:00+02:00-none
DTSTART;TZID=Europe/Madrid:20220603T193000
DESCRIPTION:Vestido con un traje de etiqueta dentro del que no acaba de sen
 tirse cómodo\, cumpliendo con el preceptivo protocolo\, el dramaturgo\, o
  una actriz amiga a quien ha pedido que lo represente en el solemne acto\,
  va a ingresar en la Academia. 
SUMMARY:"Silencio"\, de Juan Mayorga\, con Blanca Portillo
END:VEVENT
BEGIN:VEVENT
DTSTAMP:20260422T173105Z
UID:event-175-2022-06-04T19:30:00+02:00-none
DTSTART;TZID=Europe/Madrid:20220604T193000
DESCRIPTION:Vestido con un traje de etiqueta dentro del que no acaba de sen
 tirse cómodo\, cumpliendo con el preceptivo protocolo\, el dramaturgo\, o
  una actriz amiga a quien ha pedido que lo represente en el solemne acto\,
  va a ingresar en la Academia. 
SUMMARY:"Silencio"\, de Juan Mayorga\, con Blanca Portillo
END:VEVENT
END:VCALENDAR
