BEGIN:VCALENDAR
VERSION:2.0
PRODID:icalendar-ruby
CALSCALE:GREGORIAN
METHOD:PUBLISH
BEGIN:VEVENT
DTSTAMP:20260425T165018Z
UID:event-17813-2025-08-06T20:00:00+02:00-none
DTSTART;TZID=Europe/Madrid:20250806T200000
DESCRIPTION:El documental recoge el caso de la ilicitana María José Picó
  que busca a su hermana melliza y que fue sustraída a su madre en el hosp
 ital de Alicante en 1962. 
SUMMARY:Cine sin Niebla: "La caja vacía"\, documental de Javier Falcó
END:VEVENT
END:VCALENDAR
