BEGIN:VCALENDAR
VERSION:2.0
PRODID:icalendar-ruby
CALSCALE:GREGORIAN
METHOD:PUBLISH
BEGIN:VEVENT
DTSTAMP:20260425T165213Z
UID:event-18047-2025-09-05T19:30:00+02:00-2025-09-05T23:30:00+02:00
DTSTART;TZID=Europe/Madrid:20250905T193000
DTEND;TZID=Europe/Madrid:20250905T233000
DESCRIPTION:Los Campos de Sport del Sardinero acogerán un año más la XVI
 II edición del Festival Intercultural de las Naciones\, un evento emblem
 ático que celebra la diversidad cultural y el talento artístico de nuest
 ra ciudad. 
SUMMARY:Gran final del concurso Talent Show en el Festival Intercultural de
  las Naciones
END:VEVENT
END:VCALENDAR
