BEGIN:VCALENDAR
VERSION:2.0
PRODID:icalendar-ruby
CALSCALE:GREGORIAN
METHOD:PUBLISH
BEGIN:VEVENT
DTSTAMP:20260425T163309Z
UID:event-1807-2022-06-04-2022-06-04
DTSTART;VALUE=DATE:20220604
DTEND;VALUE=DATE:20220604
DESCRIPTION:La Virgen del Mar celebra este fin de semana sus tradicionales 
 fiestas que incluyen actuaciones musicales\, baile\, talleres\, etc.
SUMMARY:Fiestas de la Virgen del Mar 2022
END:VEVENT
BEGIN:VEVENT
DTSTAMP:20260425T163309Z
UID:event-1807-2022-06-05-2022-06-05
DTSTART;VALUE=DATE:20220605
DTEND;VALUE=DATE:20220605
DESCRIPTION:La Virgen del Mar celebra este fin de semana sus tradicionales 
 fiestas que incluyen actuaciones musicales\, baile\, talleres\, etc.
SUMMARY:Fiestas de la Virgen del Mar 2022
END:VEVENT
BEGIN:VEVENT
DTSTAMP:20260425T163309Z
UID:event-1807-2022-06-06-2022-06-06
DTSTART;VALUE=DATE:20220606
DTEND;VALUE=DATE:20220606
DESCRIPTION:La Virgen del Mar celebra este fin de semana sus tradicionales 
 fiestas que incluyen actuaciones musicales\, baile\, talleres\, etc.
SUMMARY:Fiestas de la Virgen del Mar 2022
END:VEVENT
END:VCALENDAR
