BEGIN:VCALENDAR
VERSION:2.0
PRODID:icalendar-ruby
CALSCALE:GREGORIAN
METHOD:PUBLISH
BEGIN:VEVENT
DTSTAMP:20260425T164110Z
UID:event-18079-2025-08-27T18:00:00+02:00-2025-08-27T21:00:00+02:00
DTSTART;TZID=Europe/Madrid:20250827T180000
DTEND;TZID=Europe/Madrid:20250827T210000
DESCRIPTION:Santander celebrará del martes 26 al domingo 31 los Santos Má
 rtires. Y lo hará con una amplia programación que aúna tradición\, fol
 clore\, ocio infantil\, música y fuegos artificiales.
SUMMARY:Santos Mártires 2025: Programación del miércoles 27 de agosto
END:VEVENT
END:VCALENDAR
