BEGIN:VCALENDAR
VERSION:2.0
PRODID:icalendar-ruby
CALSCALE:GREGORIAN
METHOD:PUBLISH
BEGIN:VEVENT
DTSTAMP:20260419T132526Z
UID:event-18380-2025-10-03T19:30:00+02:00-none
DTSTART;TZID=Europe/Madrid:20251003T193000
DESCRIPTION:En septiembre se retoma el club de lectura para mujeres LBT org
 anizado por Las Quimas con “Oculto Sendero”\, de Elena Fortún.
SUMMARY:Club de lectura LBT de Las Quimas\, "Oculto Sendero"\, de Elena For
 tún
END:VEVENT
END:VCALENDAR
