BEGIN:VCALENDAR
VERSION:2.0
PRODID:icalendar-ruby
CALSCALE:GREGORIAN
METHOD:PUBLISH
BEGIN:VEVENT
DTSTAMP:20260424T164524Z
UID:event-18487-2025-09-19T20:00:00+02:00-none
DTSTART;TZID=Europe/Madrid:20250919T200000
DESCRIPTION:Tras la proyección\, Avín ofrecerá una sesión de DJ. en la 
 que repasará la historia del Calipso\, pinchando una selección de los te
 mas mas representativos de este genero musical caribeño.
SUMMARY:Noche Calipso: "One Hand Don’t Clap". Presentación\, proyección
  y sesión DJ con Luis Avín
END:VEVENT
END:VCALENDAR
