BEGIN:VCALENDAR
VERSION:2.0
PRODID:icalendar-ruby
CALSCALE:GREGORIAN
METHOD:PUBLISH
BEGIN:VEVENT
DTSTAMP:20260424T164545Z
UID:event-18537-2025-10-01T18:00:00+02:00-none
DTSTART;TZID=Europe/Madrid:20251001T180000
DESCRIPTION:La Red de Bibliotecas Municipales de Santander continúa sus ac
 tividades de animación a lectura con "Exploradores de biblioteca"\, dirig
 ida a niñas y niños de 6 a 9 años.
SUMMARY:Exploradores de biblioteca\, actividad de animación a la lectura
END:VEVENT
BEGIN:VEVENT
DTSTAMP:20260424T164545Z
UID:event-18537-2025-10-02T18:00:00+02:00-none
DTSTART;TZID=Europe/Madrid:20251002T180000
DESCRIPTION:La Red de Bibliotecas Municipales de Santander continúa sus ac
 tividades de animación a lectura con "Exploradores de biblioteca"\, dirig
 ida a niñas y niños de 6 a 9 años.
SUMMARY:Exploradores de biblioteca\, actividad de animación a la lectura
END:VEVENT
BEGIN:VEVENT
DTSTAMP:20260424T164545Z
UID:event-18537-2025-10-03T18:00:00+02:00-none
DTSTART;TZID=Europe/Madrid:20251003T180000
DESCRIPTION:La Red de Bibliotecas Municipales de Santander continúa sus ac
 tividades de animación a lectura con "Exploradores de biblioteca"\, dirig
 ida a niñas y niños de 6 a 9 años.
SUMMARY:Exploradores de biblioteca\, actividad de animación a la lectura
END:VEVENT
BEGIN:VEVENT
DTSTAMP:20260424T164545Z
UID:event-18537-2025-10-06T18:00:00+02:00-none
DTSTART;TZID=Europe/Madrid:20251006T180000
DESCRIPTION:La Red de Bibliotecas Municipales de Santander continúa sus ac
 tividades de animación a lectura con "Exploradores de biblioteca"\, dirig
 ida a niñas y niños de 6 a 9 años.
SUMMARY:Exploradores de biblioteca\, actividad de animación a la lectura
END:VEVENT
BEGIN:VEVENT
DTSTAMP:20260424T164545Z
UID:event-18537-2025-10-07T18:00:00+02:00-none
DTSTART;TZID=Europe/Madrid:20251007T180000
DESCRIPTION:La Red de Bibliotecas Municipales de Santander continúa sus ac
 tividades de animación a lectura con "Exploradores de biblioteca"\, dirig
 ida a niñas y niños de 6 a 9 años.
SUMMARY:Exploradores de biblioteca\, actividad de animación a la lectura
END:VEVENT
BEGIN:VEVENT
DTSTAMP:20260424T164545Z
UID:event-18537-2025-10-08T18:00:00+02:00-none
DTSTART;TZID=Europe/Madrid:20251008T180000
DESCRIPTION:La Red de Bibliotecas Municipales de Santander continúa sus ac
 tividades de animación a lectura con "Exploradores de biblioteca"\, dirig
 ida a niñas y niños de 6 a 9 años.
SUMMARY:Exploradores de biblioteca\, actividad de animación a la lectura
END:VEVENT
BEGIN:VEVENT
DTSTAMP:20260424T164545Z
UID:event-18537-2025-10-09T18:00:00+02:00-none
DTSTART;TZID=Europe/Madrid:20251009T180000
DESCRIPTION:La Red de Bibliotecas Municipales de Santander continúa sus ac
 tividades de animación a lectura con "Exploradores de biblioteca"\, dirig
 ida a niñas y niños de 6 a 9 años.
SUMMARY:Exploradores de biblioteca\, actividad de animación a la lectura
END:VEVENT
BEGIN:VEVENT
DTSTAMP:20260424T164546Z
UID:event-18537-2025-10-10T18:00:00+02:00-none
DTSTART;TZID=Europe/Madrid:20251010T180000
DESCRIPTION:La Red de Bibliotecas Municipales de Santander continúa sus ac
 tividades de animación a lectura con "Exploradores de biblioteca"\, dirig
 ida a niñas y niños de 6 a 9 años.
SUMMARY:Exploradores de biblioteca\, actividad de animación a la lectura
END:VEVENT
END:VCALENDAR
