BEGIN:VCALENDAR
VERSION:2.0
PRODID:icalendar-ruby
CALSCALE:GREGORIAN
METHOD:PUBLISH
BEGIN:VEVENT
DTSTAMP:20260422T085113Z
UID:event-18602-2026-01-16-2026-01-16
DTSTART;VALUE=DATE:20260116
DTEND;VALUE=DATE:20260116
DESCRIPTION:Rulo se despide temporalmente de los escenarios para dedicarse 
 a componer nuevas canciones y tejer nuevos proyectos. Y lo hace con un úl
 timo show en el Palacio de los Deportes de Santander\, "con los míos".
SUMMARY:Rulo y la Contrabanda. "Con mis canciones pa aquí\, con mis cancio
 nes pa allá"
END:VEVENT
BEGIN:VEVENT
DTSTAMP:20260422T085113Z
UID:event-18602-2026-01-17-2026-01-17
DTSTART;VALUE=DATE:20260117
DTEND;VALUE=DATE:20260117
DESCRIPTION:Rulo se despide temporalmente de los escenarios para dedicarse 
 a componer nuevas canciones y tejer nuevos proyectos. Y lo hace con un úl
 timo show en el Palacio de los Deportes de Santander\, "con los míos".
SUMMARY:Rulo y la Contrabanda. "Con mis canciones pa aquí\, con mis cancio
 nes pa allá"
END:VEVENT
END:VCALENDAR
