BEGIN:VCALENDAR
VERSION:2.0
PRODID:icalendar-ruby
CALSCALE:GREGORIAN
METHOD:PUBLISH
BEGIN:VEVENT
DTSTAMP:20260424T164559Z
UID:event-18866-2025-10-19T17:30:00+02:00-none
DTSTART;TZID=Europe/Madrid:20251019T173000
DESCRIPTION:El épico viaje de un robot -la unidad 7134 de Roz\,'Roz' para 
 abreviar- que naufraga en una isla deshabitada y debe aprender a adaptarse
  al duro entorno\, entablando gradualmente relaciones con los animales de 
 la isla.
SUMMARY:"Robot Salvaje"\, nueva cita con Filmoteca Júnior
END:VEVENT
END:VCALENDAR
