BEGIN:VCALENDAR
VERSION:2.0
PRODID:icalendar-ruby
CALSCALE:GREGORIAN
METHOD:PUBLISH
BEGIN:VEVENT
DTSTAMP:20260424T165422Z
UID:event-18877-2025-10-10T20:00:00+02:00-none
DTSTART;TZID=Europe/Madrid:20251010T200000
DESCRIPTION:La obra está escrita y dirigida por Ramón Qu\, e interpretada
  por Juanjo Paredes y Miguel Meca. Se trata de un perturbador juego de eni
 gmas\, que transcurre en un lugar incierto\, donde aguarda Extraño\, un p
 eculiar individuo.
SUMMARY:El Callejón Teatro presenta "El Encuentro"
END:VEVENT
BEGIN:VEVENT
DTSTAMP:20260424T165422Z
UID:event-18877-2025-11-01T20:00:00+01:00-none
DTSTART;TZID=Europe/Madrid:20251101T200000
DESCRIPTION:La obra está escrita y dirigida por Ramón Qu\, e interpretada
  por Juanjo Paredes y Miguel Meca. Se trata de un perturbador juego de eni
 gmas\, que transcurre en un lugar incierto\, donde aguarda Extraño\, un p
 eculiar individuo.
SUMMARY:El Callejón Teatro presenta "El Encuentro"
END:VEVENT
BEGIN:VEVENT
DTSTAMP:20260424T165422Z
UID:event-18877-2025-11-02T20:00:00+01:00-none
DTSTART;TZID=Europe/Madrid:20251102T200000
DESCRIPTION:La obra está escrita y dirigida por Ramón Qu\, e interpretada
  por Juanjo Paredes y Miguel Meca. Se trata de un perturbador juego de eni
 gmas\, que transcurre en un lugar incierto\, donde aguarda Extraño\, un p
 eculiar individuo.
SUMMARY:El Callejón Teatro presenta "El Encuentro"
END:VEVENT
END:VCALENDAR
