BEGIN:VCALENDAR
VERSION:2.0
PRODID:icalendar-ruby
CALSCALE:GREGORIAN
METHOD:PUBLISH
BEGIN:VEVENT
DTSTAMP:20260424T165336Z
UID:event-19196-2026-01-16T21:30:00+01:00-none
DTSTART;TZID=Europe/Madrid:20260116T213000
DESCRIPTION:Taburete regresa con nueva gira\, nuevo disco y ese toque gambe
 rro y elegante que los hace únicos.
SUMMARY:Taburete. El Perro Que Fuma Tour 2026
END:VEVENT
END:VCALENDAR
