BEGIN:VCALENDAR
VERSION:2.0
PRODID:icalendar-ruby
CALSCALE:GREGORIAN
METHOD:PUBLISH
BEGIN:VEVENT
DTSTAMP:20260424T165422Z
UID:event-19709-2025-12-05T19:00:00+01:00-none
DTSTART;TZID=Europe/Madrid:20251205T190000
DESCRIPTION:De la “escuela de la comedia” nacional han salido algunas d
 e las mentes más afiladas\, más originales\, más creativas y más pelig
 rosas. Son ellas\, con su humor\, las que nos hacen la vida más soportabl
 e y divertida.
SUMMARY:David Cepo\, Eva Hache\, Galder Varas y JJ Vaquero en "Mentes pelig
 rosas"
END:VEVENT
BEGIN:VEVENT
DTSTAMP:20260424T165422Z
UID:event-19709-2025-12-05T21:30:00+01:00-none
DTSTART;TZID=Europe/Madrid:20251205T213000
DESCRIPTION:De la “escuela de la comedia” nacional han salido algunas d
 e las mentes más afiladas\, más originales\, más creativas y más pelig
 rosas. Son ellas\, con su humor\, las que nos hacen la vida más soportabl
 e y divertida.
SUMMARY:David Cepo\, Eva Hache\, Galder Varas y JJ Vaquero en "Mentes pelig
 rosas"
END:VEVENT
END:VCALENDAR
