BEGIN:VCALENDAR
VERSION:2.0
PRODID:icalendar-ruby
CALSCALE:GREGORIAN
METHOD:PUBLISH
BEGIN:VEVENT
DTSTAMP:20260419T125353Z
UID:event-20018-2025-12-27T17:00:00+01:00-none
DTSTART;TZID=Europe/Madrid:20251227T170000
DESCRIPTION:Libremente inspirada en la obra homónima de la escritora danes
 a Isak Dinesen. A principios del siglo XX\, Karen (Streep) contrae un matr
 imonio de conveniencia con el barón Blixen (Brandauer)\, un mujeriego emp
 edernido. 
SUMMARY:"Memorias de África"\, de Sydney Pollack (V.O.S.E.)
END:VEVENT
BEGIN:VEVENT
DTSTAMP:20260419T125353Z
UID:event-20018-2025-12-28T20:00:00+01:00-none
DTSTART;TZID=Europe/Madrid:20251228T200000
DESCRIPTION:Libremente inspirada en la obra homónima de la escritora danes
 a Isak Dinesen. A principios del siglo XX\, Karen (Streep) contrae un matr
 imonio de conveniencia con el barón Blixen (Brandauer)\, un mujeriego emp
 edernido. 
SUMMARY:"Memorias de África"\, de Sydney Pollack (V.O.S.E.)
END:VEVENT
END:VCALENDAR
