BEGIN:VCALENDAR
VERSION:2.0
PRODID:icalendar-ruby
CALSCALE:GREGORIAN
METHOD:PUBLISH
BEGIN:VEVENT
DTSTAMP:20260422T204319Z
UID:event-209-2022-02-11T16:30:00+01:00-2022-02-11T21:30:00+01:00
DTSTART;TZID=Europe/Madrid:20220211T163000
DTEND;TZID=Europe/Madrid:20220211T213000
DESCRIPTION:Curso Intensivo de Musical impartido por el actor\, productor y
  cantante Daniel Diges\, Premio Nacional de Teatro y elegido como Mejor Ac
 tor Musicales en 2009 y 2010.
SUMMARY:Intensivo musical con Daniel Diges
END:VEVENT
BEGIN:VEVENT
DTSTAMP:20260422T204319Z
UID:event-209-2022-02-12T10:00:00+01:00-2022-02-12T15:00:00+01:00
DTSTART;TZID=Europe/Madrid:20220212T100000
DTEND;TZID=Europe/Madrid:20220212T150000
DESCRIPTION:Curso Intensivo de Musical impartido por el actor\, productor y
  cantante Daniel Diges\, Premio Nacional de Teatro y elegido como Mejor Ac
 tor Musicales en 2009 y 2010.
SUMMARY:Intensivo musical con Daniel Diges
END:VEVENT
BEGIN:VEVENT
DTSTAMP:20260422T204319Z
UID:event-209-2022-02-13T10:00:00+01:00-2022-02-13T15:00:00+01:00
DTSTART;TZID=Europe/Madrid:20220213T100000
DTEND;TZID=Europe/Madrid:20220213T150000
DESCRIPTION:Curso Intensivo de Musical impartido por el actor\, productor y
  cantante Daniel Diges\, Premio Nacional de Teatro y elegido como Mejor Ac
 tor Musicales en 2009 y 2010.
SUMMARY:Intensivo musical con Daniel Diges
END:VEVENT
END:VCALENDAR
