BEGIN:VCALENDAR
VERSION:2.0
PRODID:icalendar-ruby
CALSCALE:GREGORIAN
METHOD:PUBLISH
BEGIN:VEVENT
DTSTAMP:20260425T162143Z
UID:event-2106-2022-06-18T19:30:00+02:00-none
DTSTART;TZID=Europe/Madrid:20220618T193000
DESCRIPTION:Los alumnos del Conservatorio Jesús de Monasterio ofrecen un c
 oncierto en el Ateneo de Santander.
SUMMARY:Concierto del alumnado del Conservatorio Jesús de Monasterio
END:VEVENT
END:VCALENDAR
