BEGIN:VCALENDAR
VERSION:2.0
PRODID:icalendar-ruby
CALSCALE:GREGORIAN
METHOD:PUBLISH
BEGIN:VEVENT
DTSTAMP:20260423T100538Z
UID:event-21409-2026-03-03T09:00:00+01:00-2026-03-03T21:00:00+01:00
DTSTART;TZID=Europe/Madrid:20260303T090000
DTEND;TZID=Europe/Madrid:20260303T210000
DESCRIPTION:Cada una de estas casas son espacios y lugares inventados\, una
  fantasía creada a partir del estudio y la reflexión sobre el arte y la 
 vida de cada una de las artistas seleccionadas.
SUMMARY:"Somos creadoras. Una casa para cada artista”\, con ilustraciones
  de Sonia Piñeiro
END:VEVENT
BEGIN:VEVENT
DTSTAMP:20260423T100538Z
UID:event-21409-2026-03-04T09:00:00+01:00-2026-03-04T21:00:00+01:00
DTSTART;TZID=Europe/Madrid:20260304T090000
DTEND;TZID=Europe/Madrid:20260304T210000
DESCRIPTION:Cada una de estas casas son espacios y lugares inventados\, una
  fantasía creada a partir del estudio y la reflexión sobre el arte y la 
 vida de cada una de las artistas seleccionadas.
SUMMARY:"Somos creadoras. Una casa para cada artista”\, con ilustraciones
  de Sonia Piñeiro
END:VEVENT
BEGIN:VEVENT
DTSTAMP:20260423T100538Z
UID:event-21409-2026-03-05T09:00:00+01:00-2026-03-05T21:00:00+01:00
DTSTART;TZID=Europe/Madrid:20260305T090000
DTEND;TZID=Europe/Madrid:20260305T210000
DESCRIPTION:Cada una de estas casas son espacios y lugares inventados\, una
  fantasía creada a partir del estudio y la reflexión sobre el arte y la 
 vida de cada una de las artistas seleccionadas.
SUMMARY:"Somos creadoras. Una casa para cada artista”\, con ilustraciones
  de Sonia Piñeiro
END:VEVENT
BEGIN:VEVENT
DTSTAMP:20260423T100538Z
UID:event-21409-2026-03-06T09:00:00+01:00-2026-03-06T21:00:00+01:00
DTSTART;TZID=Europe/Madrid:20260306T090000
DTEND;TZID=Europe/Madrid:20260306T210000
DESCRIPTION:Cada una de estas casas son espacios y lugares inventados\, una
  fantasía creada a partir del estudio y la reflexión sobre el arte y la 
 vida de cada una de las artistas seleccionadas.
SUMMARY:"Somos creadoras. Una casa para cada artista”\, con ilustraciones
  de Sonia Piñeiro
END:VEVENT
BEGIN:VEVENT
DTSTAMP:20260423T100538Z
UID:event-21409-2026-03-07T11:00:00+01:00-2026-03-07T20:00:00+01:00
DTSTART;TZID=Europe/Madrid:20260307T110000
DTEND;TZID=Europe/Madrid:20260307T200000
DESCRIPTION:Cada una de estas casas son espacios y lugares inventados\, una
  fantasía creada a partir del estudio y la reflexión sobre el arte y la 
 vida de cada una de las artistas seleccionadas.
SUMMARY:"Somos creadoras. Una casa para cada artista”\, con ilustraciones
  de Sonia Piñeiro
END:VEVENT
BEGIN:VEVENT
DTSTAMP:20260423T100538Z
UID:event-21409-2026-03-08T11:00:00+01:00-2026-03-08T20:00:00+01:00
DTSTART;TZID=Europe/Madrid:20260308T110000
DTEND;TZID=Europe/Madrid:20260308T200000
DESCRIPTION:Cada una de estas casas son espacios y lugares inventados\, una
  fantasía creada a partir del estudio y la reflexión sobre el arte y la 
 vida de cada una de las artistas seleccionadas.
SUMMARY:"Somos creadoras. Una casa para cada artista”\, con ilustraciones
  de Sonia Piñeiro
END:VEVENT
BEGIN:VEVENT
DTSTAMP:20260423T100538Z
UID:event-21409-2026-03-09T09:00:00+01:00-2026-03-09T21:00:00+01:00
DTSTART;TZID=Europe/Madrid:20260309T090000
DTEND;TZID=Europe/Madrid:20260309T210000
DESCRIPTION:Cada una de estas casas son espacios y lugares inventados\, una
  fantasía creada a partir del estudio y la reflexión sobre el arte y la 
 vida de cada una de las artistas seleccionadas.
SUMMARY:"Somos creadoras. Una casa para cada artista”\, con ilustraciones
  de Sonia Piñeiro
END:VEVENT
BEGIN:VEVENT
DTSTAMP:20260423T100538Z
UID:event-21409-2026-03-10T09:00:00+01:00-2026-03-10T21:00:00+01:00
DTSTART;TZID=Europe/Madrid:20260310T090000
DTEND;TZID=Europe/Madrid:20260310T210000
DESCRIPTION:Cada una de estas casas son espacios y lugares inventados\, una
  fantasía creada a partir del estudio y la reflexión sobre el arte y la 
 vida de cada una de las artistas seleccionadas.
SUMMARY:"Somos creadoras. Una casa para cada artista”\, con ilustraciones
  de Sonia Piñeiro
END:VEVENT
BEGIN:VEVENT
DTSTAMP:20260423T100538Z
UID:event-21409-2026-03-11T09:00:00+01:00-2026-03-11T21:00:00+01:00
DTSTART;TZID=Europe/Madrid:20260311T090000
DTEND;TZID=Europe/Madrid:20260311T210000
DESCRIPTION:Cada una de estas casas son espacios y lugares inventados\, una
  fantasía creada a partir del estudio y la reflexión sobre el arte y la 
 vida de cada una de las artistas seleccionadas.
SUMMARY:"Somos creadoras. Una casa para cada artista”\, con ilustraciones
  de Sonia Piñeiro
END:VEVENT
BEGIN:VEVENT
DTSTAMP:20260423T100538Z
UID:event-21409-2026-03-12T09:00:00+01:00-2026-03-12T21:00:00+01:00
DTSTART;TZID=Europe/Madrid:20260312T090000
DTEND;TZID=Europe/Madrid:20260312T210000
DESCRIPTION:Cada una de estas casas son espacios y lugares inventados\, una
  fantasía creada a partir del estudio y la reflexión sobre el arte y la 
 vida de cada una de las artistas seleccionadas.
SUMMARY:"Somos creadoras. Una casa para cada artista”\, con ilustraciones
  de Sonia Piñeiro
END:VEVENT
BEGIN:VEVENT
DTSTAMP:20260423T100538Z
UID:event-21409-2026-03-13T09:00:00+01:00-2026-03-13T21:00:00+01:00
DTSTART;TZID=Europe/Madrid:20260313T090000
DTEND;TZID=Europe/Madrid:20260313T210000
DESCRIPTION:Cada una de estas casas son espacios y lugares inventados\, una
  fantasía creada a partir del estudio y la reflexión sobre el arte y la 
 vida de cada una de las artistas seleccionadas.
SUMMARY:"Somos creadoras. Una casa para cada artista”\, con ilustraciones
  de Sonia Piñeiro
END:VEVENT
BEGIN:VEVENT
DTSTAMP:20260423T100538Z
UID:event-21409-2026-03-14T11:00:00+01:00-2026-03-14T20:00:00+01:00
DTSTART;TZID=Europe/Madrid:20260314T110000
DTEND;TZID=Europe/Madrid:20260314T200000
DESCRIPTION:Cada una de estas casas son espacios y lugares inventados\, una
  fantasía creada a partir del estudio y la reflexión sobre el arte y la 
 vida de cada una de las artistas seleccionadas.
SUMMARY:"Somos creadoras. Una casa para cada artista”\, con ilustraciones
  de Sonia Piñeiro
END:VEVENT
BEGIN:VEVENT
DTSTAMP:20260423T100538Z
UID:event-21409-2026-03-15T11:00:00+01:00-2026-03-15T20:00:00+01:00
DTSTART;TZID=Europe/Madrid:20260315T110000
DTEND;TZID=Europe/Madrid:20260315T200000
DESCRIPTION:Cada una de estas casas son espacios y lugares inventados\, una
  fantasía creada a partir del estudio y la reflexión sobre el arte y la 
 vida de cada una de las artistas seleccionadas.
SUMMARY:"Somos creadoras. Una casa para cada artista”\, con ilustraciones
  de Sonia Piñeiro
END:VEVENT
BEGIN:VEVENT
DTSTAMP:20260423T100538Z
UID:event-21409-2026-03-16T09:00:00+01:00-2026-03-16T21:00:00+01:00
DTSTART;TZID=Europe/Madrid:20260316T090000
DTEND;TZID=Europe/Madrid:20260316T210000
DESCRIPTION:Cada una de estas casas son espacios y lugares inventados\, una
  fantasía creada a partir del estudio y la reflexión sobre el arte y la 
 vida de cada una de las artistas seleccionadas.
SUMMARY:"Somos creadoras. Una casa para cada artista”\, con ilustraciones
  de Sonia Piñeiro
END:VEVENT
BEGIN:VEVENT
DTSTAMP:20260423T100538Z
UID:event-21409-2026-03-17T09:00:00+01:00-2026-03-17T21:00:00+01:00
DTSTART;TZID=Europe/Madrid:20260317T090000
DTEND;TZID=Europe/Madrid:20260317T210000
DESCRIPTION:Cada una de estas casas son espacios y lugares inventados\, una
  fantasía creada a partir del estudio y la reflexión sobre el arte y la 
 vida de cada una de las artistas seleccionadas.
SUMMARY:"Somos creadoras. Una casa para cada artista”\, con ilustraciones
  de Sonia Piñeiro
END:VEVENT
BEGIN:VEVENT
DTSTAMP:20260423T100538Z
UID:event-21409-2026-03-18T09:00:00+01:00-2026-03-18T21:00:00+01:00
DTSTART;TZID=Europe/Madrid:20260318T090000
DTEND;TZID=Europe/Madrid:20260318T210000
DESCRIPTION:Cada una de estas casas son espacios y lugares inventados\, una
  fantasía creada a partir del estudio y la reflexión sobre el arte y la 
 vida de cada una de las artistas seleccionadas.
SUMMARY:"Somos creadoras. Una casa para cada artista”\, con ilustraciones
  de Sonia Piñeiro
END:VEVENT
BEGIN:VEVENT
DTSTAMP:20260423T100538Z
UID:event-21409-2026-03-19T09:00:00+01:00-2026-03-19T21:00:00+01:00
DTSTART;TZID=Europe/Madrid:20260319T090000
DTEND;TZID=Europe/Madrid:20260319T210000
DESCRIPTION:Cada una de estas casas son espacios y lugares inventados\, una
  fantasía creada a partir del estudio y la reflexión sobre el arte y la 
 vida de cada una de las artistas seleccionadas.
SUMMARY:"Somos creadoras. Una casa para cada artista”\, con ilustraciones
  de Sonia Piñeiro
END:VEVENT
BEGIN:VEVENT
DTSTAMP:20260423T100538Z
UID:event-21409-2026-03-20T09:00:00+01:00-2026-03-20T21:00:00+01:00
DTSTART;TZID=Europe/Madrid:20260320T090000
DTEND;TZID=Europe/Madrid:20260320T210000
DESCRIPTION:Cada una de estas casas son espacios y lugares inventados\, una
  fantasía creada a partir del estudio y la reflexión sobre el arte y la 
 vida de cada una de las artistas seleccionadas.
SUMMARY:"Somos creadoras. Una casa para cada artista”\, con ilustraciones
  de Sonia Piñeiro
END:VEVENT
BEGIN:VEVENT
DTSTAMP:20260423T100538Z
UID:event-21409-2026-03-21T11:00:00+01:00-2026-03-21T20:00:00+01:00
DTSTART;TZID=Europe/Madrid:20260321T110000
DTEND;TZID=Europe/Madrid:20260321T200000
DESCRIPTION:Cada una de estas casas son espacios y lugares inventados\, una
  fantasía creada a partir del estudio y la reflexión sobre el arte y la 
 vida de cada una de las artistas seleccionadas.
SUMMARY:"Somos creadoras. Una casa para cada artista”\, con ilustraciones
  de Sonia Piñeiro
END:VEVENT
BEGIN:VEVENT
DTSTAMP:20260423T100538Z
UID:event-21409-2026-03-22T11:00:00+01:00-2026-03-22T20:00:00+01:00
DTSTART;TZID=Europe/Madrid:20260322T110000
DTEND;TZID=Europe/Madrid:20260322T200000
DESCRIPTION:Cada una de estas casas son espacios y lugares inventados\, una
  fantasía creada a partir del estudio y la reflexión sobre el arte y la 
 vida de cada una de las artistas seleccionadas.
SUMMARY:"Somos creadoras. Una casa para cada artista”\, con ilustraciones
  de Sonia Piñeiro
END:VEVENT
BEGIN:VEVENT
DTSTAMP:20260423T100538Z
UID:event-21409-2026-03-23T09:00:00+01:00-2026-03-23T21:00:00+01:00
DTSTART;TZID=Europe/Madrid:20260323T090000
DTEND;TZID=Europe/Madrid:20260323T210000
DESCRIPTION:Cada una de estas casas son espacios y lugares inventados\, una
  fantasía creada a partir del estudio y la reflexión sobre el arte y la 
 vida de cada una de las artistas seleccionadas.
SUMMARY:"Somos creadoras. Una casa para cada artista”\, con ilustraciones
  de Sonia Piñeiro
END:VEVENT
BEGIN:VEVENT
DTSTAMP:20260423T100538Z
UID:event-21409-2026-03-24T09:00:00+01:00-2026-03-24T21:00:00+01:00
DTSTART;TZID=Europe/Madrid:20260324T090000
DTEND;TZID=Europe/Madrid:20260324T210000
DESCRIPTION:Cada una de estas casas son espacios y lugares inventados\, una
  fantasía creada a partir del estudio y la reflexión sobre el arte y la 
 vida de cada una de las artistas seleccionadas.
SUMMARY:"Somos creadoras. Una casa para cada artista”\, con ilustraciones
  de Sonia Piñeiro
END:VEVENT
BEGIN:VEVENT
DTSTAMP:20260423T100538Z
UID:event-21409-2026-03-25T09:00:00+01:00-2026-03-25T21:00:00+01:00
DTSTART;TZID=Europe/Madrid:20260325T090000
DTEND;TZID=Europe/Madrid:20260325T210000
DESCRIPTION:Cada una de estas casas son espacios y lugares inventados\, una
  fantasía creada a partir del estudio y la reflexión sobre el arte y la 
 vida de cada una de las artistas seleccionadas.
SUMMARY:"Somos creadoras. Una casa para cada artista”\, con ilustraciones
  de Sonia Piñeiro
END:VEVENT
BEGIN:VEVENT
DTSTAMP:20260423T100538Z
UID:event-21409-2026-03-26T09:00:00+01:00-2026-03-26T21:00:00+01:00
DTSTART;TZID=Europe/Madrid:20260326T090000
DTEND;TZID=Europe/Madrid:20260326T210000
DESCRIPTION:Cada una de estas casas son espacios y lugares inventados\, una
  fantasía creada a partir del estudio y la reflexión sobre el arte y la 
 vida de cada una de las artistas seleccionadas.
SUMMARY:"Somos creadoras. Una casa para cada artista”\, con ilustraciones
  de Sonia Piñeiro
END:VEVENT
BEGIN:VEVENT
DTSTAMP:20260423T100538Z
UID:event-21409-2026-03-27T09:00:00+01:00-2026-03-27T21:00:00+01:00
DTSTART;TZID=Europe/Madrid:20260327T090000
DTEND;TZID=Europe/Madrid:20260327T210000
DESCRIPTION:Cada una de estas casas son espacios y lugares inventados\, una
  fantasía creada a partir del estudio y la reflexión sobre el arte y la 
 vida de cada una de las artistas seleccionadas.
SUMMARY:"Somos creadoras. Una casa para cada artista”\, con ilustraciones
  de Sonia Piñeiro
END:VEVENT
BEGIN:VEVENT
DTSTAMP:20260423T100538Z
UID:event-21409-2026-03-28T11:00:00+01:00-2026-03-28T20:00:00+01:00
DTSTART;TZID=Europe/Madrid:20260328T110000
DTEND;TZID=Europe/Madrid:20260328T200000
DESCRIPTION:Cada una de estas casas son espacios y lugares inventados\, una
  fantasía creada a partir del estudio y la reflexión sobre el arte y la 
 vida de cada una de las artistas seleccionadas.
SUMMARY:"Somos creadoras. Una casa para cada artista”\, con ilustraciones
  de Sonia Piñeiro
END:VEVENT
BEGIN:VEVENT
DTSTAMP:20260423T100538Z
UID:event-21409-2026-03-29T11:00:00+02:00-2026-03-29T20:00:00+02:00
DTSTART;TZID=Europe/Madrid:20260329T110000
DTEND;TZID=Europe/Madrid:20260329T200000
DESCRIPTION:Cada una de estas casas son espacios y lugares inventados\, una
  fantasía creada a partir del estudio y la reflexión sobre el arte y la 
 vida de cada una de las artistas seleccionadas.
SUMMARY:"Somos creadoras. Una casa para cada artista”\, con ilustraciones
  de Sonia Piñeiro
END:VEVENT
BEGIN:VEVENT
DTSTAMP:20260423T100538Z
UID:event-21409-2026-03-30T09:00:00+02:00-2026-03-30T21:00:00+02:00
DTSTART;TZID=Europe/Madrid:20260330T090000
DTEND;TZID=Europe/Madrid:20260330T210000
DESCRIPTION:Cada una de estas casas son espacios y lugares inventados\, una
  fantasía creada a partir del estudio y la reflexión sobre el arte y la 
 vida de cada una de las artistas seleccionadas.
SUMMARY:"Somos creadoras. Una casa para cada artista”\, con ilustraciones
  de Sonia Piñeiro
END:VEVENT
BEGIN:VEVENT
DTSTAMP:20260423T100538Z
UID:event-21409-2026-03-31T09:00:00+02:00-2026-03-31T21:00:00+02:00
DTSTART;TZID=Europe/Madrid:20260331T090000
DTEND;TZID=Europe/Madrid:20260331T210000
DESCRIPTION:Cada una de estas casas son espacios y lugares inventados\, una
  fantasía creada a partir del estudio y la reflexión sobre el arte y la 
 vida de cada una de las artistas seleccionadas.
SUMMARY:"Somos creadoras. Una casa para cada artista”\, con ilustraciones
  de Sonia Piñeiro
END:VEVENT
BEGIN:VEVENT
DTSTAMP:20260423T100538Z
UID:event-21409-2026-04-01T09:00:00+02:00-2026-04-01T21:00:00+02:00
DTSTART;TZID=Europe/Madrid:20260401T090000
DTEND;TZID=Europe/Madrid:20260401T210000
DESCRIPTION:Cada una de estas casas son espacios y lugares inventados\, una
  fantasía creada a partir del estudio y la reflexión sobre el arte y la 
 vida de cada una de las artistas seleccionadas.
SUMMARY:"Somos creadoras. Una casa para cada artista”\, con ilustraciones
  de Sonia Piñeiro
END:VEVENT
BEGIN:VEVENT
DTSTAMP:20260423T100538Z
UID:event-21409-2026-04-02T09:00:00+02:00-2026-04-02T21:00:00+02:00
DTSTART;TZID=Europe/Madrid:20260402T090000
DTEND;TZID=Europe/Madrid:20260402T210000
DESCRIPTION:Cada una de estas casas son espacios y lugares inventados\, una
  fantasía creada a partir del estudio y la reflexión sobre el arte y la 
 vida de cada una de las artistas seleccionadas.
SUMMARY:"Somos creadoras. Una casa para cada artista”\, con ilustraciones
  de Sonia Piñeiro
END:VEVENT
BEGIN:VEVENT
DTSTAMP:20260423T100538Z
UID:event-21409-2026-04-03T09:00:00+02:00-2026-04-03T21:00:00+02:00
DTSTART;TZID=Europe/Madrid:20260403T090000
DTEND;TZID=Europe/Madrid:20260403T210000
DESCRIPTION:Cada una de estas casas son espacios y lugares inventados\, una
  fantasía creada a partir del estudio y la reflexión sobre el arte y la 
 vida de cada una de las artistas seleccionadas.
SUMMARY:"Somos creadoras. Una casa para cada artista”\, con ilustraciones
  de Sonia Piñeiro
END:VEVENT
BEGIN:VEVENT
DTSTAMP:20260423T100538Z
UID:event-21409-2026-04-04T11:00:00+02:00-2026-04-04T20:00:00+02:00
DTSTART;TZID=Europe/Madrid:20260404T110000
DTEND;TZID=Europe/Madrid:20260404T200000
DESCRIPTION:Cada una de estas casas son espacios y lugares inventados\, una
  fantasía creada a partir del estudio y la reflexión sobre el arte y la 
 vida de cada una de las artistas seleccionadas.
SUMMARY:"Somos creadoras. Una casa para cada artista”\, con ilustraciones
  de Sonia Piñeiro
END:VEVENT
BEGIN:VEVENT
DTSTAMP:20260423T100538Z
UID:event-21409-2026-04-05T11:00:00+02:00-2026-04-05T20:00:00+02:00
DTSTART;TZID=Europe/Madrid:20260405T110000
DTEND;TZID=Europe/Madrid:20260405T200000
DESCRIPTION:Cada una de estas casas son espacios y lugares inventados\, una
  fantasía creada a partir del estudio y la reflexión sobre el arte y la 
 vida de cada una de las artistas seleccionadas.
SUMMARY:"Somos creadoras. Una casa para cada artista”\, con ilustraciones
  de Sonia Piñeiro
END:VEVENT
BEGIN:VEVENT
DTSTAMP:20260423T100538Z
UID:event-21409-2026-04-06T09:00:00+02:00-2026-04-06T21:00:00+02:00
DTSTART;TZID=Europe/Madrid:20260406T090000
DTEND;TZID=Europe/Madrid:20260406T210000
DESCRIPTION:Cada una de estas casas son espacios y lugares inventados\, una
  fantasía creada a partir del estudio y la reflexión sobre el arte y la 
 vida de cada una de las artistas seleccionadas.
SUMMARY:"Somos creadoras. Una casa para cada artista”\, con ilustraciones
  de Sonia Piñeiro
END:VEVENT
BEGIN:VEVENT
DTSTAMP:20260423T100538Z
UID:event-21409-2026-04-07T09:00:00+02:00-2026-04-07T21:00:00+02:00
DTSTART;TZID=Europe/Madrid:20260407T090000
DTEND;TZID=Europe/Madrid:20260407T210000
DESCRIPTION:Cada una de estas casas son espacios y lugares inventados\, una
  fantasía creada a partir del estudio y la reflexión sobre el arte y la 
 vida de cada una de las artistas seleccionadas.
SUMMARY:"Somos creadoras. Una casa para cada artista”\, con ilustraciones
  de Sonia Piñeiro
END:VEVENT
BEGIN:VEVENT
DTSTAMP:20260423T100538Z
UID:event-21409-2026-04-08T09:00:00+02:00-2026-04-08T21:00:00+02:00
DTSTART;TZID=Europe/Madrid:20260408T090000
DTEND;TZID=Europe/Madrid:20260408T210000
DESCRIPTION:Cada una de estas casas son espacios y lugares inventados\, una
  fantasía creada a partir del estudio y la reflexión sobre el arte y la 
 vida de cada una de las artistas seleccionadas.
SUMMARY:"Somos creadoras. Una casa para cada artista”\, con ilustraciones
  de Sonia Piñeiro
END:VEVENT
BEGIN:VEVENT
DTSTAMP:20260423T100538Z
UID:event-21409-2026-04-09T09:00:00+02:00-2026-04-09T21:00:00+02:00
DTSTART;TZID=Europe/Madrid:20260409T090000
DTEND;TZID=Europe/Madrid:20260409T210000
DESCRIPTION:Cada una de estas casas son espacios y lugares inventados\, una
  fantasía creada a partir del estudio y la reflexión sobre el arte y la 
 vida de cada una de las artistas seleccionadas.
SUMMARY:"Somos creadoras. Una casa para cada artista”\, con ilustraciones
  de Sonia Piñeiro
END:VEVENT
BEGIN:VEVENT
DTSTAMP:20260423T100538Z
UID:event-21409-2026-04-10T09:00:00+02:00-2026-04-10T21:00:00+02:00
DTSTART;TZID=Europe/Madrid:20260410T090000
DTEND;TZID=Europe/Madrid:20260410T210000
DESCRIPTION:Cada una de estas casas son espacios y lugares inventados\, una
  fantasía creada a partir del estudio y la reflexión sobre el arte y la 
 vida de cada una de las artistas seleccionadas.
SUMMARY:"Somos creadoras. Una casa para cada artista”\, con ilustraciones
  de Sonia Piñeiro
END:VEVENT
BEGIN:VEVENT
DTSTAMP:20260423T100538Z
UID:event-21409-2026-04-11T11:00:00+02:00-2026-04-11T20:00:00+02:00
DTSTART;TZID=Europe/Madrid:20260411T110000
DTEND;TZID=Europe/Madrid:20260411T200000
DESCRIPTION:Cada una de estas casas son espacios y lugares inventados\, una
  fantasía creada a partir del estudio y la reflexión sobre el arte y la 
 vida de cada una de las artistas seleccionadas.
SUMMARY:"Somos creadoras. Una casa para cada artista”\, con ilustraciones
  de Sonia Piñeiro
END:VEVENT
BEGIN:VEVENT
DTSTAMP:20260423T100538Z
UID:event-21409-2026-04-12T11:00:00+02:00-2026-04-12T20:00:00+02:00
DTSTART;TZID=Europe/Madrid:20260412T110000
DTEND;TZID=Europe/Madrid:20260412T200000
DESCRIPTION:Cada una de estas casas son espacios y lugares inventados\, una
  fantasía creada a partir del estudio y la reflexión sobre el arte y la 
 vida de cada una de las artistas seleccionadas.
SUMMARY:"Somos creadoras. Una casa para cada artista”\, con ilustraciones
  de Sonia Piñeiro
END:VEVENT
BEGIN:VEVENT
DTSTAMP:20260423T100538Z
UID:event-21409-2026-04-13T09:00:00+02:00-2026-04-13T21:00:00+02:00
DTSTART;TZID=Europe/Madrid:20260413T090000
DTEND;TZID=Europe/Madrid:20260413T210000
DESCRIPTION:Cada una de estas casas son espacios y lugares inventados\, una
  fantasía creada a partir del estudio y la reflexión sobre el arte y la 
 vida de cada una de las artistas seleccionadas.
SUMMARY:"Somos creadoras. Una casa para cada artista”\, con ilustraciones
  de Sonia Piñeiro
END:VEVENT
BEGIN:VEVENT
DTSTAMP:20260423T100538Z
UID:event-21409-2026-04-14T09:00:00+02:00-2026-04-14T21:00:00+02:00
DTSTART;TZID=Europe/Madrid:20260414T090000
DTEND;TZID=Europe/Madrid:20260414T210000
DESCRIPTION:Cada una de estas casas son espacios y lugares inventados\, una
  fantasía creada a partir del estudio y la reflexión sobre el arte y la 
 vida de cada una de las artistas seleccionadas.
SUMMARY:"Somos creadoras. Una casa para cada artista”\, con ilustraciones
  de Sonia Piñeiro
END:VEVENT
BEGIN:VEVENT
DTSTAMP:20260423T100538Z
UID:event-21409-2026-04-15T09:00:00+02:00-2026-04-15T21:00:00+02:00
DTSTART;TZID=Europe/Madrid:20260415T090000
DTEND;TZID=Europe/Madrid:20260415T210000
DESCRIPTION:Cada una de estas casas son espacios y lugares inventados\, una
  fantasía creada a partir del estudio y la reflexión sobre el arte y la 
 vida de cada una de las artistas seleccionadas.
SUMMARY:"Somos creadoras. Una casa para cada artista”\, con ilustraciones
  de Sonia Piñeiro
END:VEVENT
BEGIN:VEVENT
DTSTAMP:20260423T100538Z
UID:event-21409-2026-04-16T09:00:00+02:00-2026-04-16T21:00:00+02:00
DTSTART;TZID=Europe/Madrid:20260416T090000
DTEND;TZID=Europe/Madrid:20260416T210000
DESCRIPTION:Cada una de estas casas son espacios y lugares inventados\, una
  fantasía creada a partir del estudio y la reflexión sobre el arte y la 
 vida de cada una de las artistas seleccionadas.
SUMMARY:"Somos creadoras. Una casa para cada artista”\, con ilustraciones
  de Sonia Piñeiro
END:VEVENT
BEGIN:VEVENT
DTSTAMP:20260423T100538Z
UID:event-21409-2026-04-17T09:00:00+02:00-2026-04-17T21:00:00+02:00
DTSTART;TZID=Europe/Madrid:20260417T090000
DTEND;TZID=Europe/Madrid:20260417T210000
DESCRIPTION:Cada una de estas casas son espacios y lugares inventados\, una
  fantasía creada a partir del estudio y la reflexión sobre el arte y la 
 vida de cada una de las artistas seleccionadas.
SUMMARY:"Somos creadoras. Una casa para cada artista”\, con ilustraciones
  de Sonia Piñeiro
END:VEVENT
END:VCALENDAR
