BEGIN:VCALENDAR
VERSION:2.0
PRODID:icalendar-ruby
CALSCALE:GREGORIAN
METHOD:PUBLISH
BEGIN:VEVENT
DTSTAMP:20260422T181445Z
UID:event-21769-2026-03-24T18:30:00+01:00-none
DTSTART;TZID=Europe/Madrid:20260324T183000
DESCRIPTION:Este encuentro pretende ser una invitación a dialogar con la o
 bra “Pintura” del artista andaluz Guillermo Vargas Ruiz\, teniendo en 
 cuenta que mirar es siempre interpretar.
SUMMARY:Alberto Iglesias "alucina" en el MAS
END:VEVENT
END:VCALENDAR
