BEGIN:VCALENDAR
VERSION:2.0
PRODID:icalendar-ruby
CALSCALE:GREGORIAN
METHOD:PUBLISH
BEGIN:VEVENT
DTSTAMP:20260421T234025Z
UID:event-2196-2022-08-10T19:30:00+02:00-none
DTSTART;TZID=Europe/Madrid:20220810T193000
DESCRIPTION:Cinco asesinos a sueldo se encuentran a bordo de un tren bala q
 ue viaja de Tokio a Morioka con unas pocas paradas intermedias. Descubren 
 que sus misiones no son ajenas entre sí. 
SUMMARY:"Bullet train"\, de David Leitch
END:VEVENT
BEGIN:VEVENT
DTSTAMP:20260421T234025Z
UID:event-2196-2022-08-11T17:00:00+02:00-none
DTSTART;TZID=Europe/Madrid:20220811T170000
DESCRIPTION:Cinco asesinos a sueldo se encuentran a bordo de un tren bala q
 ue viaja de Tokio a Morioka con unas pocas paradas intermedias. Descubren 
 que sus misiones no son ajenas entre sí. 
SUMMARY:"Bullet train"\, de David Leitch
END:VEVENT
BEGIN:VEVENT
DTSTAMP:20260421T234025Z
UID:event-2196-2022-08-12T19:30:00+02:00-none
DTSTART;TZID=Europe/Madrid:20220812T193000
DESCRIPTION:Cinco asesinos a sueldo se encuentran a bordo de un tren bala q
 ue viaja de Tokio a Morioka con unas pocas paradas intermedias. Descubren 
 que sus misiones no son ajenas entre sí. 
SUMMARY:"Bullet train"\, de David Leitch
END:VEVENT
BEGIN:VEVENT
DTSTAMP:20260421T234025Z
UID:event-2196-2022-08-13T17:00:00+02:00-none
DTSTART;TZID=Europe/Madrid:20220813T170000
DESCRIPTION:Cinco asesinos a sueldo se encuentran a bordo de un tren bala q
 ue viaja de Tokio a Morioka con unas pocas paradas intermedias. Descubren 
 que sus misiones no son ajenas entre sí. 
SUMMARY:"Bullet train"\, de David Leitch
END:VEVENT
BEGIN:VEVENT
DTSTAMP:20260421T234025Z
UID:event-2196-2022-08-13T22:00:00+02:00-none
DTSTART;TZID=Europe/Madrid:20220813T220000
DESCRIPTION:Cinco asesinos a sueldo se encuentran a bordo de un tren bala q
 ue viaja de Tokio a Morioka con unas pocas paradas intermedias. Descubren 
 que sus misiones no son ajenas entre sí. 
SUMMARY:"Bullet train"\, de David Leitch
END:VEVENT
BEGIN:VEVENT
DTSTAMP:20260421T234025Z
UID:event-2196-2022-08-14T19:30:00+02:00-none
DTSTART;TZID=Europe/Madrid:20220814T193000
DESCRIPTION:Cinco asesinos a sueldo se encuentran a bordo de un tren bala q
 ue viaja de Tokio a Morioka con unas pocas paradas intermedias. Descubren 
 que sus misiones no son ajenas entre sí. 
SUMMARY:"Bullet train"\, de David Leitch
END:VEVENT
BEGIN:VEVENT
DTSTAMP:20260421T234025Z
UID:event-2196-2022-08-17-2022-08-17
DTSTART;VALUE=DATE:20220817
DTEND;VALUE=DATE:20220817
DESCRIPTION:Cinco asesinos a sueldo se encuentran a bordo de un tren bala q
 ue viaja de Tokio a Morioka con unas pocas paradas intermedias. Descubren 
 que sus misiones no son ajenas entre sí. 
SUMMARY:"Bullet train"\, de David Leitch
END:VEVENT
BEGIN:VEVENT
DTSTAMP:20260421T234025Z
UID:event-2196-2022-08-18T19:30:00+02:00-none
DTSTART;TZID=Europe/Madrid:20220818T193000
DESCRIPTION:Cinco asesinos a sueldo se encuentran a bordo de un tren bala q
 ue viaja de Tokio a Morioka con unas pocas paradas intermedias. Descubren 
 que sus misiones no son ajenas entre sí. 
SUMMARY:"Bullet train"\, de David Leitch
END:VEVENT
BEGIN:VEVENT
DTSTAMP:20260421T234025Z
UID:event-2196-2022-08-19-2022-08-19
DTSTART;VALUE=DATE:20220819
DTEND;VALUE=DATE:20220819
DESCRIPTION:Cinco asesinos a sueldo se encuentran a bordo de un tren bala q
 ue viaja de Tokio a Morioka con unas pocas paradas intermedias. Descubren 
 que sus misiones no son ajenas entre sí. 
SUMMARY:"Bullet train"\, de David Leitch
END:VEVENT
BEGIN:VEVENT
DTSTAMP:20260421T234025Z
UID:event-2196-2022-08-20T19:30:00+02:00-none
DTSTART;TZID=Europe/Madrid:20220820T193000
DESCRIPTION:Cinco asesinos a sueldo se encuentran a bordo de un tren bala q
 ue viaja de Tokio a Morioka con unas pocas paradas intermedias. Descubren 
 que sus misiones no son ajenas entre sí. 
SUMMARY:"Bullet train"\, de David Leitch
END:VEVENT
BEGIN:VEVENT
DTSTAMP:20260421T234025Z
UID:event-2196-2022-08-21-2022-08-21
DTSTART;VALUE=DATE:20220821
DTEND;VALUE=DATE:20220821
DESCRIPTION:Cinco asesinos a sueldo se encuentran a bordo de un tren bala q
 ue viaja de Tokio a Morioka con unas pocas paradas intermedias. Descubren 
 que sus misiones no son ajenas entre sí. 
SUMMARY:"Bullet train"\, de David Leitch
END:VEVENT
END:VCALENDAR
