BEGIN:VCALENDAR
VERSION:2.0
PRODID:icalendar-ruby
CALSCALE:GREGORIAN
METHOD:PUBLISH
BEGIN:VEVENT
DTSTAMP:20260422T022822Z
UID:event-21969-2026-04-22T19:00:00+02:00-none
DTSTART;TZID=Europe/Madrid:20260422T190000
DESCRIPTION:En concreto\, el debate estará protagonizado por los alumnos D
 arío Sanz Salinas y Daniel Colera Melo.
SUMMARY:"¿Debe el testimonio individual tener más peso que la memoria col
 ectiva en la construcción de la paz tras una guerra?"\, debate
END:VEVENT
END:VCALENDAR
