BEGIN:VCALENDAR
VERSION:2.0
PRODID:icalendar-ruby
CALSCALE:GREGORIAN
METHOD:PUBLISH
BEGIN:VEVENT
DTSTAMP:20260425T163351Z
UID:event-22098-2026-04-24T19:30:00+02:00-none
DTSTART;TZID=Europe/Madrid:20260424T193000
DESCRIPTION:Asamblea abierta de La Vorágine el 24 de abril a las 20:30h.
SUMMARY:Asamblea abierta de La Vorágine
END:VEVENT
END:VCALENDAR
