BEGIN:VCALENDAR
VERSION:2.0
PRODID:icalendar-ruby
CALSCALE:GREGORIAN
METHOD:PUBLISH
BEGIN:VEVENT
DTSTAMP:20260425T165056Z
UID:event-2225-2022-07-09T23:00:00+02:00-none
DTSTART;TZID=Europe/Madrid:20220709T230000
DESCRIPTION:El sábado 9 de julio podrán asistir al estreno de la películ
 a ‘Thor: Love and Thunder’\, en el Ocine de Bahía Real.  Para jóvene
 s de 15 a 30 años. 
SUMMARY:Noche de cine: "Thor: Love and Thunder"
END:VEVENT
END:VCALENDAR
