BEGIN:VCALENDAR
VERSION:2.0
PRODID:icalendar-ruby
CALSCALE:GREGORIAN
METHOD:PUBLISH
BEGIN:VEVENT
DTSTAMP:20260422T014319Z
UID:event-22281-2026-04-22T19:00:00+02:00-none
DTSTART;TZID=Europe/Madrid:20260422T190000
DESCRIPTION:Todos tenemos miedos y preocupaciones sobre nuestro entorno y\,
  sobre todo\, con respecto a los seres queridos. En este libro se da visib
 ilidad a todos aquellos temores que pueden surgir de nuestra imaginación.
SUMMARY:Presentación del álbum ilustrado "El miedo de Irene"\, con los au
 tores Antonio Ventura y Beatriz Martín Vidal
END:VEVENT
END:VCALENDAR
