BEGIN:VCALENDAR
VERSION:2.0
PRODID:icalendar-ruby
CALSCALE:GREGORIAN
METHOD:PUBLISH
BEGIN:VEVENT
DTSTAMP:20260422T213500Z
UID:event-22282-2026-04-26T12:00:00+02:00-none
DTSTART;TZID=Europe/Madrid:20260426T120000
DESCRIPTION: El domingo 26 de abril a las 12:00h en la Librería Gloobal se
  contarán "Cuentos de encuentros". Cuentos de autores que han asistido a 
 los encuentros de álbum ilustrado organizados por Revista Peonza. 
SUMMARY:"Cuentos de encuentros" en Librería Gloobal
END:VEVENT
END:VCALENDAR
