BEGIN:VCALENDAR
VERSION:2.0
PRODID:icalendar-ruby
CALSCALE:GREGORIAN
METHOD:PUBLISH
BEGIN:VEVENT
DTSTAMP:20260419T132024Z
UID:event-22299-2026-04-21T19:00:00+02:00-none
DTSTART;TZID=Europe/Madrid:20260421T190000
DESCRIPTION:Los dinamiteros es una coproducción hispano italiana de comedi
 a negra estrenada en 1964\, protagonizada por José Isbert\, Sara garcía 
 y Carlo Pisacane.
SUMMARY:Cine Club con Salón de Belleza: "Los dinamiteros"\, de Juan Garcí
 a Atienza 
END:VEVENT
END:VCALENDAR
