BEGIN:VCALENDAR
VERSION:2.0
PRODID:icalendar-ruby
CALSCALE:GREGORIAN
METHOD:PUBLISH
BEGIN:VEVENT
DTSTAMP:20260425T163309Z
UID:event-22338-2026-04-25T12:30:00+02:00-2026-04-25T17:30:00+02:00
DTSTART;TZID=Europe/Madrid:20260425T123000
DTEND;TZID=Europe/Madrid:20260425T173000
DESCRIPTION:El sábado 25 de noviembre de 12:30 a 17:30h el Centro Cultural
  Eureka acoge "La Vermutada del Sindicato"\, con pinchadas de Sara Puaj y 
 Charliemiau\, vermú\, comida vegana...
SUMMARY:"La Vermutada del Sindicato"\, fiesta del Sindicato de la Vivienda 
 de Cantabria
END:VEVENT
END:VCALENDAR
