BEGIN:VCALENDAR
VERSION:2.0
PRODID:icalendar-ruby
CALSCALE:GREGORIAN
METHOD:PUBLISH
BEGIN:VEVENT
DTSTAMP:20260419T133418Z
UID:event-22351-2026-04-21T18:30:00+02:00-none
DTSTART;TZID=Europe/Madrid:20260421T183000
DESCRIPTION:El Museo de Prehistoria y Arqueología de Cantabria (MUPAC) con
 tará con la presencia de Francesc Torres\, artista polifacético catalán
 \, que hablará acerca de “La caja entrópica”.
SUMMARY:"La caja entrópica"\, conferencia de Francesc Torres
END:VEVENT
END:VCALENDAR
