BEGIN:VCALENDAR
VERSION:2.0
PRODID:icalendar-ruby
CALSCALE:GREGORIAN
METHOD:PUBLISH
BEGIN:VEVENT
DTSTAMP:20260425T213532Z
UID:event-22360-2026-04-25T20:30:00+02:00-none
DTSTART;TZID=Europe/Madrid:20260425T203000
DESCRIPTION:Conocido por su carisma y habilidad para conectar con el públ
 ico\, Salva Reina trae su estilo único de comedia basado en las experien
 cias cotidianas y las situaciones absurdas de la vida. 
SUMMARY:Salva Reina presenta su espectáculo de comedia "Prohibido echarle 
 cacahuetes al mono"
END:VEVENT
END:VCALENDAR
