BEGIN:VCALENDAR
VERSION:2.0
PRODID:icalendar-ruby
CALSCALE:GREGORIAN
METHOD:PUBLISH
BEGIN:VEVENT
DTSTAMP:20260422T022849Z
UID:event-22390-2026-04-22T19:00:00+02:00-none
DTSTART;TZID=Europe/Madrid:20260422T190000
DESCRIPTION:Esta publicación es editada de forma conjunta por la Asociaci
 ón para la Defensa de los Intereses de Cantabria (ADIC) y la Asociación 
 Etnocant.
SUMMARY:Presentación del número 5 de la revista Aguanaz
END:VEVENT
END:VCALENDAR
