BEGIN:VCALENDAR
VERSION:2.0
PRODID:icalendar-ruby
CALSCALE:GREGORIAN
METHOD:PUBLISH
BEGIN:VEVENT
DTSTAMP:20260424T170656Z
UID:event-22398-2026-04-29T20:30:00+02:00-none
DTSTART;TZID=Europe/Madrid:20260429T203000
DESCRIPTION:La doctora Ana Rosa Jurado López es doctora en Medicina\, sex
 óloga\, especialista en menopausia y salud de la mujer\, presidenta del I
 nstituto de Sexología de Marbella.
SUMMARY:"Menopausia y calidad de vida. Una revolución a los 50"\, con Ana 
 Rosa Jurado
END:VEVENT
END:VCALENDAR
