BEGIN:VCALENDAR
VERSION:2.0
PRODID:icalendar-ruby
CALSCALE:GREGORIAN
METHOD:PUBLISH
BEGIN:VEVENT
DTSTAMP:20260425T163402Z
UID:event-22405-2026-04-25T20:00:00+02:00-none
DTSTART;TZID=Europe/Madrid:20260425T200000
DESCRIPTION:Roots\, reggae y dub con mensaje: naturaleza\, conciencia socia
 l y una filosofía de vida que va mucho más allá de la música.
SUMMARY:Mountain Tops en Música en la Plaza
END:VEVENT
END:VCALENDAR
