BEGIN:VCALENDAR
VERSION:2.0
PRODID:icalendar-ruby
CALSCALE:GREGORIAN
METHOD:PUBLISH
BEGIN:VEVENT
DTSTAMP:20260425T163402Z
UID:event-22410-2026-04-29T20:00:00+02:00-none
DTSTART;TZID=Europe/Madrid:20260429T200000
DESCRIPTION:En esta gran novela\, Ana María Matute radiografía la vida co
 mpleja y conflictiva de una nación escindida y desgarrada\, para intentar
  comprender y penetrar en las causas últimas de la injusticia y el odio.
SUMMARY:Club de lectura de La Libre en torno al libro "Luciérnagas"\, de A
 na María Matute
END:VEVENT
END:VCALENDAR
