BEGIN:VCALENDAR
VERSION:2.0
PRODID:icalendar-ruby
CALSCALE:GREGORIAN
METHOD:PUBLISH
BEGIN:VEVENT
DTSTAMP:20260424T162940Z
UID:event-22437-2026-05-07T19:30:00+02:00-none
DTSTART;TZID=Europe/Madrid:20260507T193000
DESCRIPTION:En su trayectoria ha visto reconocido su talento en numerosos c
 oncursos internacionales\, actuando como solista y ofreciendo recitales en
  Polonia\, Francia\, España\, Suecia\, Países Bajos y Alemania.
SUMMARY:Recital de la pianista Bernadetta Raatz
END:VEVENT
END:VCALENDAR
