BEGIN:VCALENDAR
VERSION:2.0
PRODID:icalendar-ruby
CALSCALE:GREGORIAN
METHOD:PUBLISH
BEGIN:VEVENT
DTSTAMP:20260425T170650Z
UID:event-22439-2026-05-02-2026-05-02
DTSTART;VALUE=DATE:20260502
DTEND;VALUE=DATE:20260502
DESCRIPTION:La experiencia “Observación desde Tierra” es una actividad
  diseñada para acercar la astronomía a todos los públicos\, siendo idea
 l para disfrutar en familia.
SUMMARY:Observación astronómica desde tierra
END:VEVENT
BEGIN:VEVENT
DTSTAMP:20260425T170650Z
UID:event-22439-2026-05-14-2026-05-14
DTSTART;VALUE=DATE:20260514
DTEND;VALUE=DATE:20260514
DESCRIPTION:La experiencia “Observación desde Tierra” es una actividad
  diseñada para acercar la astronomía a todos los públicos\, siendo idea
 l para disfrutar en familia.
SUMMARY:Observación astronómica desde tierra
END:VEVENT
BEGIN:VEVENT
DTSTAMP:20260425T170650Z
UID:event-22439-2026-06-13-2026-06-13
DTSTART;VALUE=DATE:20260613
DTEND;VALUE=DATE:20260613
DESCRIPTION:La experiencia “Observación desde Tierra” es una actividad
  diseñada para acercar la astronomía a todos los públicos\, siendo idea
 l para disfrutar en familia.
SUMMARY:Observación astronómica desde tierra
END:VEVENT
END:VCALENDAR
